BEGIN:VCALENDAR
VERSION:2.0
PRODID:-//Innovation PEI - ECPv6.15.20//NONSGML v1.0//EN
CALSCALE:GREGORIAN
METHOD:PUBLISH
X-ORIGINAL-URL:https://innovationpei.com
X-WR-CALDESC:Events for Innovation PEI
REFRESH-INTERVAL;VALUE=DURATION:PT1H
X-Robots-Tag:noindex
X-PUBLISHED-TTL:PT1H
BEGIN:VTIMEZONE
TZID:America/Halifax
BEGIN:DAYLIGHT
TZOFFSETFROM:-0400
TZOFFSETTO:-0300
TZNAME:ADT
DTSTART:20240310T060000
END:DAYLIGHT
BEGIN:STANDARD
TZOFFSETFROM:-0300
TZOFFSETTO:-0400
TZNAME:AST
DTSTART:20241103T050000
END:STANDARD
BEGIN:DAYLIGHT
TZOFFSETFROM:-0400
TZOFFSETTO:-0300
TZNAME:ADT
DTSTART:20250309T060000
END:DAYLIGHT
BEGIN:STANDARD
TZOFFSETFROM:-0300
TZOFFSETTO:-0400
TZNAME:AST
DTSTART:20251102T050000
END:STANDARD
BEGIN:DAYLIGHT
TZOFFSETFROM:-0400
TZOFFSETTO:-0300
TZNAME:ADT
DTSTART:20260308T060000
END:DAYLIGHT
BEGIN:STANDARD
TZOFFSETFROM:-0300
TZOFFSETTO:-0400
TZNAME:AST
DTSTART:20261101T050000
END:STANDARD
END:VTIMEZONE
BEGIN:VEVENT
DTSTART;VALUE=DATE:20251020
DTEND;VALUE=DATE:20251025
DTSTAMP:20260421T230123
CREATED:20250529T182554Z
LAST-MODIFIED:20250813T120050Z
UID:10000025-1760918400-1761350399@innovationpei.com
SUMMARY:Multi-Sector Trade Mission to Western Canada (Calgary & Edmonton) – October 2025
DESCRIPTION:Innovation PEI is seeking interest from export-ready PEI-based companies to participate in a Multi-Sector Trade Mission to Calgary and Edmonton\, Alberta\, from October 20th to 24th\, 2025.  \nThis mission presents an opportunity to strengthen business relationships and enhance the visibility of PEI exporters in key Western Canadian markets. It aims to support participants in expanding their presence across Canada and integrating more deeply into broader North American supply chains. \nKey Elements of the Mission include: \n1. A B2B matchmaking program aligned to PEI companies’ export objectives\, featuring pre-arranged meetings with buyers\, distributors\, and other strategic contacts.\n2. In-market ground transportation for transportation to and from business meetings.\n3. Companies may be eligible for travel assistance of up to 60% through Innovation PEI’s Export Enhancement and Diversification Program. \nHere’s What to Expect:\n1. Pre-arranged B2B meetings in Calgary\, Alberta\n2. Pre-arranged B2B meetings in Edmonton\, Alberta\n3. Transportation provided in market \nFocus sectors:\n• Information and communications technologies\n• Life sciences/ Bio\n• Advanced Manufacturing\n• Education\n• Professional Services\n• Agriculture and processed foods\n• Fish and seafood\n• Food and Beverage\n• Aerospace \nConditions for Participation\nPrince Edward Island companies must have the expertise and capacity to provide needed services and/or goods in the specific fields outlined. Companies must demonstrate that the products and/or services they seek to promote through the mission will result in significant economic benefit for Prince Edward Island (i.e. increased production in Canada\, employment creation\, technology transfer\, increased research and development activity\, etc.). \n*You must be a PEI-registered company to be eligible for this mission. \nIf we are uncertain as to the economic benefit for Prince Edward Island of the company’s activities\, supplemental information may be requested to assess the company’s suitability for participation. \nRegistration Fee: $500 per company.\nOnce the business mission details are finalized\, you will receive a full registration form to complete. A registration fee must be paid before any pre-arranged meetings can be scheduled \nDeadline to submit an application is September 8th\, 2025 by completing this form.  \nInnovation PEI reserves the right to limit registration to those companies that meet the sector-based objectives of this show. \nFor more information\, please contact: \nShelby McDonald\, Innovation PEI at shelbymcdonald@gov.pe.ca
URL:https://innovationpei.com/event/multi-sector-trade-mission-to-calgary-edmonton-october-2025/
CATEGORIES:Trade Missions
ATTACH;FMTTYPE=image/png:https://innovationpei.com/wp-content/uploads/2025/05/Life-in-Calgary-lifestyle-skyline.png
END:VEVENT
END:VCALENDAR