BEGIN:VCALENDAR
VERSION:2.0
PRODID:-//Innovation PEI - ECPv6.15.20//NONSGML v1.0//EN
CALSCALE:GREGORIAN
METHOD:PUBLISH
X-ORIGINAL-URL:https://innovationpei.com
X-WR-CALDESC:Events for Innovation PEI
REFRESH-INTERVAL;VALUE=DURATION:PT1H
X-Robots-Tag:noindex
X-PUBLISHED-TTL:PT1H
BEGIN:VTIMEZONE
TZID:America/Halifax
BEGIN:DAYLIGHT
TZOFFSETFROM:-0400
TZOFFSETTO:-0300
TZNAME:ADT
DTSTART:20240310T060000
END:DAYLIGHT
BEGIN:STANDARD
TZOFFSETFROM:-0300
TZOFFSETTO:-0400
TZNAME:AST
DTSTART:20241103T050000
END:STANDARD
BEGIN:DAYLIGHT
TZOFFSETFROM:-0400
TZOFFSETTO:-0300
TZNAME:ADT
DTSTART:20250309T060000
END:DAYLIGHT
BEGIN:STANDARD
TZOFFSETFROM:-0300
TZOFFSETTO:-0400
TZNAME:AST
DTSTART:20251102T050000
END:STANDARD
BEGIN:DAYLIGHT
TZOFFSETFROM:-0400
TZOFFSETTO:-0300
TZNAME:ADT
DTSTART:20260308T060000
END:DAYLIGHT
BEGIN:STANDARD
TZOFFSETFROM:-0300
TZOFFSETTO:-0400
TZNAME:AST
DTSTART:20261101T050000
END:STANDARD
END:VTIMEZONE
BEGIN:VEVENT
DTSTART;VALUE=DATE:20250910
DTEND;VALUE=DATE:20250913
DTSTAMP:20260422T140139
CREATED:20250507T113841Z
LAST-MODIFIED:20250520T190751Z
UID:10000020-1757462400-1757721599@innovationpei.com
SUMMARY:Seafood Expo Asia 2025 - September 10-12\, 2025
DESCRIPTION:Innovation PEI\, in partnership with the Atlantic Provinces\, the Atlantic Canada Opportunities Agency and Taste of Nova Scotia\, are seeking Atlantic Canadian seafood companies to confirm their interest to participate at Seafood Expo Asia (SEA) in Singapore from September 10-12\, 2025. \nSEA is the seafood marketplace for Asia\, bringing together industry suppliers from around the world with buyers from across Asia. A gateway to Asia\, Singapore is the world’s busiest shipping hub\, connected to 600 ports in over 120 countries. SEA offers the Hosted Buyer program\, which connects top-tier\, high-volume buyers with exhibiting companies and provides benefits to qualified decision-makers involved in high-volume purchases. \nOver the last 5 years\, the demand for Atlantic Canadian Seafood in Asia has grown tremendously with export sales totalling $1.45B in 2023. As a major consumer\, importer\, and producer of seafood\, and with a population of more than 4 billion people\, Asia shows tremendous potential for export growth and market diversification. \nMission features: \n\nAn open-concept Atlantic Canada pavilion with shared booth spaces for each province.\nThe option to participate as a co-exhibitor or show walker if you are not able/eligible to participate as a co-exhibitor.\nTurn-key booths for each province including furnishings\, graphics\, and signage for each co-exhibitor.\nParticipation in the SEA Hosted Buyer Program with high-value B2B meetings.\nPossible in-market networking and B2B initiatives (TBC)\n\nRegistration fees: \n\nCo-exhibitor: $2\,500.00\nShow Walker: $1\,000.00\n\nTo submit your Expression of Interest\, please click on the Application Form link below: \nSEA 2025 APPLICATION FORM \nExpression of Interest deadline: May 23\, 2025 \nFor more information\, please refer to the SEA 2025 Expression of Interest Information Sheet or contact Lannia Pan MacAleer at lpmacaleer@gov.pe.ca
URL:https://innovationpei.com/event/seafood-expo-asia-2025-september-10-12-2025/
LOCATION:Sands Expo and Convention Centre\, Singapore
CATEGORIES:Trade Missions
ATTACH;FMTTYPE=image/png:https://innovationpei.com/wp-content/uploads/2025/05/banner-26.png
END:VEVENT
BEGIN:VEVENT
DTSTART;VALUE=DATE:20250914
DTEND;VALUE=DATE:20250922
DTSTAMP:20260422T140139
CREATED:20250513T120618Z
LAST-MODIFIED:20250526T173136Z
UID:10000023-1757808000-1758499199@innovationpei.com
SUMMARY:Multi-Sector Mission to South Korea and Japan - September 14 - 21\, 2025
DESCRIPTION:Innovation PEI\, in collaboration with the other Atlantic Provinces and ACOA\, is seeking export-ready PEI companies from the following sectors for participation in an Atlantic Canada Trade Mission to Seoul\, South Korea\, and Tokyo and Osaka\, Japan from September 14-21\, 2025. \n\nAerospace and Defence\nAgri-food & Food (Including Seafood)\nBio/Life Sciences\nClean Technology\nEnergy\nICT\nOcean Technology\n\nMission Features \n\nPre-arranged\, qualified B2B meetings\nAttendance at Atlantic Canada Day at Expo 2025 Osaka\nParticipation in business networking events\, site tours\, and roundtables\nMarket briefings and pre-mission webinars\nAccess to Canadian Trade Commissioner Service in-market\nGroup ground transportation in-market\n\nProposed Mission In-Market Programming Dates \nSeoul\, South Korea \n\nSunday\, September 14 – in-market presentation/ /site tour\nMonday\, September 15 – B2B’s/roundtable discussions/reception Tokyo\, Japan\nTuesday\, September 16 – In-market presentation/site tour/roundtable discussions\nWednesday\, September 17 – B2Bs/lunch reception travel to Osaka\n\nOsaka\, Japan \n\nThursday\, September 18 – in-market presentation/B2Bs/roundtable discussion\nFriday\, September 19 – Atlantic Canada Day and reception at Expo 2025\nSaturday\, September 20-21 – Attendance at Expo 2025 (Business intelligence gathering)\n\nCompanies can choose to participate in the entire mission\, visiting all three markets\, or they can select only those markets they wish to participate in. \nDeadline for Expression of Interest: Friday\, May 30\, 2025. If you are interested in joining this mission\, please confirm your interest by email with Lannia Pan MacAleer lpmacaleer@gov.pe.ca. She will then send you the registration form.  \nFunding Support:  \nInnovation PEI’s Export Enhancement and Diversification Fund can cover up to 60% of eligible travel-related expenses for eligible participating companies from PEI\, including economy airfare\, accommodations\, and meals. For detailed information and access to the online application portal\, please click here. \n—– \nTaste of Canada’s Food Island – South Korea & Japan (September 15-20\, 2025) \nTo maximize the market expansion and diversification opportunities outlined above\, Innovation PEI is planning to host comprehensive marketing campaigns and press conferences in Seoul\, Tokyo\, and Osaka—aligned with the Atlantic Canada trade mission to South Korea and Japan. These events will spotlight PEI’s food brand\, Canada’s Food Island\, and will include: \n\na) Integrated Marketing Campaigns A combination of traditional and digital strategies promoting Canada’s Food Island and PEI’s leadership in sustainability\, food safety\, quality\, and innovation.\nb) Signature Food Events\n\n\nPrince Edward Island Day at Expo 2025 Osaka (Canada Pavilion)\nThree Taste of Canada’s Food Island Press Conferences in Seoul\, Tokyo\, and Osaka\n\nThese initiatives will increase consumer awareness\, media exposure\, and business interest in PEI food products. More Info Here! \n——- \nIf you have any questions\, please reach out to Lannia Pan MacAleer 902-368-6208 | lpmacaleer@gov.pe.ca
URL:https://innovationpei.com/event/multi-sector-mission-to-south-korea-and-japan-september-14-21-2025/
CATEGORIES:Trade Missions
ATTACH;FMTTYPE=image/png:https://innovationpei.com/wp-content/uploads/2025/05/banner-29.png
END:VEVENT
BEGIN:VEVENT
DTSTART;TZID=America/Halifax:20250916T080000
DTEND;TZID=America/Halifax:20250917T170000
DTSTAMP:20260422T140139
CREATED:20250613T152326Z
LAST-MODIFIED:20250704T124150Z
UID:10000026-1758009600-1758128400@innovationpei.com
SUMMARY:CMA - BGA Outgoing Trade Mission to CARIF 2025 - September 16th & 17th\, 2025
DESCRIPTION:Canadian Manufacturers & Exporters\, in partnership with BuildGreen Atlantic\, invites you to join us at the 9th Caribbean Infrastructure Forum (CARIF) 2025 in Miami\, FL\, on September 16 & 17\, 2025. This event will bring together regional and global leaders involved in the planning\, financing\, and construction of infrastructure projects across the Caribbean\, and their interest in sustainable solutions has never been higher! \nThis mission presents a unique chance to expand your market reach\, forge new trading relationships\, and benefit from expert facilitation and matchmaking. You’ll be well-supported throughout the entire process\, including: \n\nPre-mission information webinar\nIntroductory meeting to review the mission itinerary\nTen (10) pre-qualified B2B meetings with key policymakers\, investors\, and project developers\nIntroductions to local Consulate representatives\nOn-the-ground conference support in Miami\nPost-conference follow-up to nurture new connections\nAdditional B2B meetings during BuildGreen Atlantic 2026\, to further strengthen your relationships with incoming buyers\n\nParticipating companies are responsible for their own travel\, meals\, and accommodations. The cost to join this exciting mission is $3\,000 + HST. \nFunding Support:\nInnovation PEI’s Export Enhancement and Diversification Fund can cover up to 60% of eligible travel-related expenses for eligible participating companies from PEI\, including economy airfare\, accommodations\, and meals. For detailed information and access to the online application portal\, please click here. \nApplication Deadline: July 31\, 2025  – Register to Participate in the Mission\n \nIf you have any questions or would like to schedule a one-on-one chat about this opportunity\, please don’t hesitate to reach out to Lannia MacAleer at lpmacaleer@gov.pe.ca
URL:https://innovationpei.com/event/cma-bga-trade-mission-carif-september-2025/
CATEGORIES:Trade Missions
ATTACH;FMTTYPE=image/png:https://innovationpei.com/wp-content/uploads/2025/06/trade-mission-location-featured-image.png
END:VEVENT
END:VCALENDAR