BEGIN:VCALENDAR
VERSION:2.0
PRODID:-//Innovation PEI - ECPv6.15.20//NONSGML v1.0//EN
CALSCALE:GREGORIAN
METHOD:PUBLISH
X-WR-CALNAME:Innovation PEI
X-ORIGINAL-URL:https://innovationpei.com
X-WR-CALDESC:Events for Innovation PEI
REFRESH-INTERVAL;VALUE=DURATION:PT1H
X-Robots-Tag:noindex
X-PUBLISHED-TTL:PT1H
BEGIN:VTIMEZONE
TZID:America/Halifax
BEGIN:DAYLIGHT
TZOFFSETFROM:-0400
TZOFFSETTO:-0300
TZNAME:ADT
DTSTART:20230312T060000
END:DAYLIGHT
BEGIN:STANDARD
TZOFFSETFROM:-0300
TZOFFSETTO:-0400
TZNAME:AST
DTSTART:20231105T050000
END:STANDARD
BEGIN:DAYLIGHT
TZOFFSETFROM:-0400
TZOFFSETTO:-0300
TZNAME:ADT
DTSTART:20240310T060000
END:DAYLIGHT
BEGIN:STANDARD
TZOFFSETFROM:-0300
TZOFFSETTO:-0400
TZNAME:AST
DTSTART:20241103T050000
END:STANDARD
BEGIN:DAYLIGHT
TZOFFSETFROM:-0400
TZOFFSETTO:-0300
TZNAME:ADT
DTSTART:20250309T060000
END:DAYLIGHT
BEGIN:STANDARD
TZOFFSETFROM:-0300
TZOFFSETTO:-0400
TZNAME:AST
DTSTART:20251102T050000
END:STANDARD
BEGIN:DAYLIGHT
TZOFFSETFROM:-0400
TZOFFSETTO:-0300
TZNAME:ADT
DTSTART:20260308T060000
END:DAYLIGHT
BEGIN:STANDARD
TZOFFSETFROM:-0300
TZOFFSETTO:-0400
TZNAME:AST
DTSTART:20261101T050000
END:STANDARD
END:VTIMEZONE
BEGIN:VEVENT
DTSTART;VALUE=DATE:20250203
DTEND;VALUE=DATE:20250212
DTSTAMP:20260422T195532
CREATED:20250424T132547Z
LAST-MODIFIED:20250424T132547Z
UID:10000015-1738540800-1739318399@innovationpei.com
SUMMARY:Seafood From Canada European Export Café – Rome\, Paris\, and London – February 3-11\, 2025
DESCRIPTION:About The Seafood From Canada – European Export Café: \nInnovation PEI\, in partnership with the Atlantic Provincial Seafood Trade Group and the Government of Canada\, is currently recruiting Island\, export-ready seafood companies that are interested in participating in the Seafood Export Café trade mission to Europe\, visiting Rome\, Paris and London. \nParticipating Island seafood companies will participate in organized business-to-business (B-2-B) meetings with qualified European seafood buyers in each key seafood market. \nB-2-B meetings will be held in-person for each of the three European locations followed by a networking activity. Meetings will be facilitated and organized by professional in-market consultants and Trade Commissioners. \n  \nSchedule: \nRome\, Italy – February 3-4 (Monday & Tuesday) \nParis\, France – February 6-7 (Thursday & Friday) \nLondon\, England – February 10-11 (Monday & Tuesday) \n  \nWhy Participate: \n\nB-2-B Match-Making – Work with an in-market consultant and the Trade Commissioners to organize in-person meetings with qualified European seafood buyers.\nMarket Access & Networking opportunities – Engage and connect with qualified European seafood buyers in three key European markets and participate in networking events.\nFinancial Support – Participating Island companies may be eligible for up to 40% of pre-determined eligible travel costs via the IPEI Export Trade Assistance Program\n\n  \nRegistration Process & Fees: \nThere is a two-step registration process to participate. \n\nStep 1: Register for the Prince Edward Island delegation by contacting Innovation PEI Trade Development Officer\, Lannia Pan MacAleer via email @ lpmacaleer@gov.pe.ca\nStep 2: Confirm your registration for the Seafood Export Café to Europe – download\, complete and submit the registration form to Lobster Council of Canada Executive Director\, Geoff Irvine @ irvine@lobstercouncilcanada.ca\nDeadline to Register – November 15\, 2025\n\nThe project team reserves the right to limit the number of participants based on successful matchmaking in each country and/or overwhelming interest. In this case please confirm your firm’s interest as soon as possible as we will manage in a first come\, first served basis. \n 
URL:https://innovationpei.com/event/seafood-from-canada-european-export-cafe-rome-paris-and-london-february-3-11-2025/
CATEGORIES:Past Trade Missions
ATTACH;FMTTYPE=image/png:https://innovationpei.com/wp-content/uploads/2024/10/banner-9.png
END:VEVENT
BEGIN:VEVENT
DTSTART;VALUE=DATE:20241125
DTEND;VALUE=DATE:20241130
DTSTAMP:20260422T195532
CREATED:20250424T132654Z
LAST-MODIFIED:20250424T132654Z
UID:10000016-1732492800-1732924799@innovationpei.com
SUMMARY:Multi-Sector Mission to Toronto\, Ontario – November 25th – 29th\, 2024
DESCRIPTION:Innovation PEI is seeking interest from export-ready PEI-based companies to participate in a Multi-Sector Mission in Toronto\, Ontario\, from November 25th – 29th\, 2024. \nInnovation PEI will lead a multi-sector business mission to Toronto on November 25th – 29th\, 2024\, in support of trade\, investment and tourism opportunities in this region. The mission will consist of a business program of prearranged meetings between participating PEI companies/organizations with Toronto based companies/organizations. \nHere’s what to expect: \n\nArrive in Toronto\, Ontario/ Mission Briefing / November 25th\, 2024\nPrearranged B2B meetings / November 25th – 29th\, 2024\nTransportation provided in market\n\n  \n  \nFocus sectors: \n\nInformation and communications technologies\nLife sciences/ Bio\nAdvanced Manufacturing\nEducation\nProfessional Services\nAgriculture and processed foods\nFish and seafood\nFood and Beverage\nAerospace\n\n  \nMission features: \n\nMatchmaker/consulting services\, development of customized business itineraries.\nMarket access to buyers\, distributors/agents\, technology partners\, investment capital\,\nand labour.\nGround transportation services to and from all meetings.\nBusiness networking.\nTravel cost support on economy airfare\, accommodations and meals (40% by Innovation PEI).\n\nRegistration Deadline: October 7th\, 2024. 
URL:https://innovationpei.com/event/multi-sector-mission-to-toronto-ontario-november-25th-29th-2024/
CATEGORIES:Past Trade Missions
ATTACH;FMTTYPE=image/png:https://innovationpei.com/wp-content/uploads/2024/09/banner-2.png
END:VEVENT
BEGIN:VEVENT
DTSTART;VALUE=DATE:20241028
DTEND;VALUE=DATE:20241102
DTSTAMP:20260422T195532
CREATED:20250424T132807Z
LAST-MODIFIED:20250424T132807Z
UID:10000017-1730073600-1730505599@innovationpei.com
SUMMARY:Multi-Sector Trade Mission\, Boston and New York – October 28 – November 1\, 2024
DESCRIPTION:Innovation PEI will lead a multi-sector trade mission to Boston and New York on October 28th – November 1st\, 2024\, in support of trade and investment opportunities in this region.  The mission will consist of a business program of pre-arranged meetings between participating PEI companies/organizations with New England and New York based companies/organizations \nMission schedule: \n\nSunday\, October 27 – Arrive in Boston\, Mass – Mission briefing in evening.\nMonday\, October 28  – Wednesday October 30  – Prearranged B2B meetings in the New England area.\nWednesday\, October 30 – Travel via chartered bus as a group to New York City.\nWednesday\, October 30 – Friday\, November 1st – Prearranged B2B meetings in the New York area.\nFriday\, November 1 – Finish meetings/travel home.
URL:https://innovationpei.com/event/multi-sector-trade-mission-boston-and-new-york-october-28-november-1-2024/
CATEGORIES:Past Trade Missions
ATTACH;FMTTYPE=image/png:https://innovationpei.com/wp-content/uploads/2024/09/banner-1.png
END:VEVENT
END:VCALENDAR