BEGIN:VCALENDAR
VERSION:2.0
PRODID:-//Innovation PEI - ECPv6.15.20//NONSGML v1.0//EN
CALSCALE:GREGORIAN
METHOD:PUBLISH
X-WR-CALNAME:Innovation PEI
X-ORIGINAL-URL:https://innovationpei.com
X-WR-CALDESC:Events for Innovation PEI
REFRESH-INTERVAL;VALUE=DURATION:PT1H
X-Robots-Tag:noindex
X-PUBLISHED-TTL:PT1H
BEGIN:VTIMEZONE
TZID:America/Halifax
BEGIN:DAYLIGHT
TZOFFSETFROM:-0400
TZOFFSETTO:-0300
TZNAME:ADT
DTSTART:20230312T060000
END:DAYLIGHT
BEGIN:STANDARD
TZOFFSETFROM:-0300
TZOFFSETTO:-0400
TZNAME:AST
DTSTART:20231105T050000
END:STANDARD
BEGIN:DAYLIGHT
TZOFFSETFROM:-0400
TZOFFSETTO:-0300
TZNAME:ADT
DTSTART:20240310T060000
END:DAYLIGHT
BEGIN:STANDARD
TZOFFSETFROM:-0300
TZOFFSETTO:-0400
TZNAME:AST
DTSTART:20241103T050000
END:STANDARD
BEGIN:DAYLIGHT
TZOFFSETFROM:-0400
TZOFFSETTO:-0300
TZNAME:ADT
DTSTART:20250309T060000
END:DAYLIGHT
BEGIN:STANDARD
TZOFFSETFROM:-0300
TZOFFSETTO:-0400
TZNAME:AST
DTSTART:20251102T050000
END:STANDARD
END:VTIMEZONE
BEGIN:VEVENT
DTSTART;VALUE=DATE:20241028
DTEND;VALUE=DATE:20241102
DTSTAMP:20260422T194438
CREATED:20250424T132807Z
LAST-MODIFIED:20250424T132807Z
UID:10000017-1730073600-1730505599@innovationpei.com
SUMMARY:Multi-Sector Trade Mission\, Boston and New York – October 28 – November 1\, 2024
DESCRIPTION:Innovation PEI will lead a multi-sector trade mission to Boston and New York on October 28th – November 1st\, 2024\, in support of trade and investment opportunities in this region.  The mission will consist of a business program of pre-arranged meetings between participating PEI companies/organizations with New England and New York based companies/organizations \nMission schedule: \n\nSunday\, October 27 – Arrive in Boston\, Mass – Mission briefing in evening.\nMonday\, October 28  – Wednesday October 30  – Prearranged B2B meetings in the New England area.\nWednesday\, October 30 – Travel via chartered bus as a group to New York City.\nWednesday\, October 30 – Friday\, November 1st – Prearranged B2B meetings in the New York area.\nFriday\, November 1 – Finish meetings/travel home.
URL:https://innovationpei.com/event/multi-sector-trade-mission-boston-and-new-york-october-28-november-1-2024/
CATEGORIES:Past Trade Missions
ATTACH;FMTTYPE=image/png:https://innovationpei.com/wp-content/uploads/2024/09/banner-1.png
END:VEVENT
END:VCALENDAR