BEGIN:VCALENDAR
VERSION:2.0
PRODID:-//Innovation PEI - ECPv6.15.20//NONSGML v1.0//EN
CALSCALE:GREGORIAN
METHOD:PUBLISH
X-WR-CALNAME:Innovation PEI
X-ORIGINAL-URL:https://innovationpei.com
X-WR-CALDESC:Events for Innovation PEI
REFRESH-INTERVAL;VALUE=DURATION:PT1H
X-Robots-Tag:noindex
X-PUBLISHED-TTL:PT1H
BEGIN:VTIMEZONE
TZID:America/Halifax
BEGIN:DAYLIGHT
TZOFFSETFROM:-0400
TZOFFSETTO:-0300
TZNAME:ADT
DTSTART:20250309T060000
END:DAYLIGHT
BEGIN:STANDARD
TZOFFSETFROM:-0300
TZOFFSETTO:-0400
TZNAME:AST
DTSTART:20251102T050000
END:STANDARD
BEGIN:DAYLIGHT
TZOFFSETFROM:-0400
TZOFFSETTO:-0300
TZNAME:ADT
DTSTART:20260308T060000
END:DAYLIGHT
BEGIN:STANDARD
TZOFFSETFROM:-0300
TZOFFSETTO:-0400
TZNAME:AST
DTSTART:20261101T050000
END:STANDARD
BEGIN:DAYLIGHT
TZOFFSETFROM:-0400
TZOFFSETTO:-0300
TZNAME:ADT
DTSTART:20270314T060000
END:DAYLIGHT
BEGIN:STANDARD
TZOFFSETFROM:-0300
TZOFFSETTO:-0400
TZNAME:AST
DTSTART:20271107T050000
END:STANDARD
END:VTIMEZONE
BEGIN:VEVENT
DTSTART;VALUE=DATE:20260608
DTEND;VALUE=DATE:20260613
DTSTAMP:20260422T200958
CREATED:20260413T155345Z
LAST-MODIFIED:20260416T195304Z
UID:10000044-1780876800-1781308799@innovationpei.com
SUMMARY:Multi-Sector Business Mission to Toronto 2026
DESCRIPTION:Innovation PEI is seeking interest from export-ready PEI-based companies to participate in a Multi-Sector Business Mission to Toronto\, taking place from June 8th – June 12th\, 2026. \n\n\nThe mission will consist of a business program of prearranged meetings between participating PEI companies and organizations with Toronto-based companies and organizations. \n\n\nDates: June 8th – June 12th\, 2026 \n\n\nArrive in Toronto on Sunday\, June 7th\, 2026 for a mission briefing.\nPrearranged B2B meetings take place from Monday\, June 8th – 12th\, 2026.\n\n\nLocation: Toronto\, Ontario \n\n\nMission Key Sectors: \n\n\nInformation and Communications Technologies\nLife Sciences/ Bioscience\nAdvanced Manufacturing\nEducation\nProfessional Services\nAgriculture and Agri-food\, including fish and seafood \nFood and Beverage\nAerospace\n\n\nWhy Participate: \n\n\nMatchmaker and consulting services\, as well as the development of customized business itineraries.\nMarket access to buyers\, distributors/agents\, technology partners\, investment capital\, and labour.\nGround transportation services to and from all meetings.\nBusiness networking opportunities.\nSupport for travel costs on economy airfare\, accommodations and meals.\n\n\nFunding Support: \n\n\nInnovation PEI’s Export Trade Assistance can cover up to 40-60% of eligible travel-related expenses for eligible participating companies from PEI\, including economy airfare\, accommodations\, and meals. For detailed information\, please click here. \n\n\nThe participation fee is $500. \n\n\n🗓️ Deadline for this mission is April 22nd\, 2026. \n\n\nTo apply please fill out the PDF below and submit your application to the event lead Shelby McDonald via email at shelbymcdonald@gov.pe.ca \nClick here to download the PDF application form. \nFor more information\, please contact:\nShelby McDonald\nTrade Development Officer – Innovation PEI\n902-368-5952\nshelbymcdonald@gov.pe.ca
URL:https://innovationpei.com/event/multi-sector-business-mission-toronto-2026/
CATEGORIES:Trade Missions
ATTACH;FMTTYPE=image/png:https://innovationpei.com/wp-content/uploads/2026/04/trade-mission-location-featured-image-17.png
END:VEVENT
END:VCALENDAR