BEGIN:VCALENDAR
VERSION:2.0
PRODID:-//Innovation PEI - ECPv6.15.20//NONSGML v1.0//EN
CALSCALE:GREGORIAN
METHOD:PUBLISH
X-ORIGINAL-URL:https://innovationpei.com
X-WR-CALDESC:Events for Innovation PEI
REFRESH-INTERVAL;VALUE=DURATION:PT1H
X-Robots-Tag:noindex
X-PUBLISHED-TTL:PT1H
BEGIN:VTIMEZONE
TZID:America/Halifax
BEGIN:DAYLIGHT
TZOFFSETFROM:-0400
TZOFFSETTO:-0300
TZNAME:ADT
DTSTART:20250309T060000
END:DAYLIGHT
BEGIN:STANDARD
TZOFFSETFROM:-0300
TZOFFSETTO:-0400
TZNAME:AST
DTSTART:20251102T050000
END:STANDARD
BEGIN:DAYLIGHT
TZOFFSETFROM:-0400
TZOFFSETTO:-0300
TZNAME:ADT
DTSTART:20260308T060000
END:DAYLIGHT
BEGIN:STANDARD
TZOFFSETFROM:-0300
TZOFFSETTO:-0400
TZNAME:AST
DTSTART:20261101T050000
END:STANDARD
BEGIN:DAYLIGHT
TZOFFSETFROM:-0400
TZOFFSETTO:-0300
TZNAME:ADT
DTSTART:20270314T060000
END:DAYLIGHT
BEGIN:STANDARD
TZOFFSETFROM:-0300
TZOFFSETTO:-0400
TZNAME:AST
DTSTART:20271107T050000
END:STANDARD
END:VTIMEZONE
BEGIN:VEVENT
DTSTART;VALUE=DATE:20260427
DTEND;VALUE=DATE:20260429
DTSTAMP:20260421T171621
CREATED:20260116T173126Z
LAST-MODIFIED:20260323T131308Z
UID:10000038-1777248000-1777420799@innovationpei.com
SUMMARY:BuildGreen Atlantic 2026
DESCRIPTION:BuildGreen Atlantic is a conference\, trade show and networking event that advances the design\, construction\, and operation of greener buildings in Atlantic Canada. \n\n\nBuildGreen Atlantic will be held at the Halifax Convention Centre on April 27 & 28\, 2026. The 27th will offer Pre-Conference Workshops & Building Tours of local high-performance facilities and will wrap up with an Opening Reception for delegates\, sponsors\, speakers\, and guests. The 28th focuses on the Conference & Tradeshow. \n\n\nBoth days will attract the green building sector\, including building owners\, architects\, engineers\, designers\, materials manufacturers\, trades professionals\, policy makers and students. The conference content is relevant to residential and ICI sectors and will highlight both new construction and retrofits. \n\n\nDates: April 27 & 28\, 2026 \n\n\nLocation: Halifax Convention Centre\, Halifax\, NS \n\n\nWhy Participate: \n\n\nTargeted Audience – Engage with decision-makers and influencers from all areas of the green building industry\, including architects\, builders\, contractors\, and sustainability professionals. This is an ideal opportunity to position your brand at the forefront of the movement toward sustainable construction.\nPrime Tradeshow Location – Benefit from 2.5 hours of concentrated tradeshow time\, allowing you to maximize your interactions and build meaningful connections. Our strategic scheduling ensures that delegates are motivated to visit your booth.\nExhibitor Benefits – Your investment of just $1\,200 includes a fully-equipped 10 x 10 tradeshow booth featuring one six ft. long draped table\, two chairs\, and backdrop curtains to enhance your display. Plus\, with wireless high-speed internet access and the option to promote power from Global Convention Services\, you’re set up for success.\nEnhanced Visibility – Participate in our Passport Program\, designed to ensure that delegates actively visit your booth. This will not only increase foot traffic but also encourage meaningful engagement with potential clients.\nNetworking Opportunities – Two full registrations for the conference are included\, so you can attend key sessions\, meet industry leaders\, and expand your professional network beyond the tradeshow floor.\n\n\nFunding Support:\nInnovation PEI’s Export Enhancement and Diversification Fund can cover up to 40-60% of eligible travel-related expenses for eligible participating companies from PEI\, including economy airfare\, accommodations\, and meals. For detailed information and access to the online application portal\, please click here. \n\n\nThe participation fee is $1\,200 per Booth \n\n\nFor more information and to register as an exhibitor\, please see the conference website: https://buildgreenatlantic.ca/exhibitors
URL:https://innovationpei.com/event/buildgreen-atlantic-2026/
CATEGORIES:Trade Missions
ATTACH;FMTTYPE=image/png:https://innovationpei.com/wp-content/uploads/2026/01/image-2.png
END:VEVENT
END:VCALENDAR