BEGIN:VCALENDAR
VERSION:2.0
PRODID:-//Innovation PEI - ECPv6.15.20//NONSGML v1.0//EN
CALSCALE:GREGORIAN
METHOD:PUBLISH
X-ORIGINAL-URL:https://innovationpei.com
X-WR-CALDESC:Events for Innovation PEI
REFRESH-INTERVAL;VALUE=DURATION:PT1H
X-Robots-Tag:noindex
X-PUBLISHED-TTL:PT1H
BEGIN:VTIMEZONE
TZID:America/Halifax
BEGIN:DAYLIGHT
TZOFFSETFROM:-0400
TZOFFSETTO:-0300
TZNAME:ADT
DTSTART:20250309T060000
END:DAYLIGHT
BEGIN:STANDARD
TZOFFSETFROM:-0300
TZOFFSETTO:-0400
TZNAME:AST
DTSTART:20251102T050000
END:STANDARD
BEGIN:DAYLIGHT
TZOFFSETFROM:-0400
TZOFFSETTO:-0300
TZNAME:ADT
DTSTART:20260308T060000
END:DAYLIGHT
BEGIN:STANDARD
TZOFFSETFROM:-0300
TZOFFSETTO:-0400
TZNAME:AST
DTSTART:20261101T050000
END:STANDARD
BEGIN:DAYLIGHT
TZOFFSETFROM:-0400
TZOFFSETTO:-0300
TZNAME:ADT
DTSTART:20270314T060000
END:DAYLIGHT
BEGIN:STANDARD
TZOFFSETFROM:-0300
TZOFFSETTO:-0400
TZNAME:AST
DTSTART:20271107T050000
END:STANDARD
END:VTIMEZONE
BEGIN:VEVENT
DTSTART;VALUE=DATE:20260420
DTEND;VALUE=DATE:20260425
DTSTAMP:20260421T171707
CREATED:20251119T173531Z
LAST-MODIFIED:20260323T130927Z
UID:10000034-1776643200-1777075199@innovationpei.com
SUMMARY:Hannover Messe 2026
DESCRIPTION:Innovation PEI is seeking interest from export-ready PEI-based companies to participate in a Canada Trade Mission to Hannover Messe 2026. \n\n\nDates: April 20-24\, 2026 \n\n\nLocation: Hannover\, Germany \n\n\nSectors: \n\n\nAI\nAutomation/Robotics\nDefense\nDigital\n\n\nWhy Participate:\n• Showcase with Canada’s presence in the following halls: AI\, Automation/Robotics\, Defense\, Digital\n• Benefit from NGen leading the organizing of the Canada Trade Mission events\, exhibitor\, and visitor program \n\n\nFunding Support:\nInnovation PEI’s Export Enhancement and Diversification Fund can cover up to 60% of eligible travel-related expenses for eligible participating companies from PEI\, including economy airfare\, accommodations\, and meals. For detailed information and access to the online application portal\, please click here. \n\n\n🗓️ Deadline for this mission is January 9th\, 2026 \nFor more information and to secure your spot\, please register through the official link: \n\n\nhttps://www.ngen.ca/hannover-messehttps://www.ngen.ca/hannover-messe \n\nIf you have any questions\, please contact Cara Squires\, the event lead\, via email or phone. \n\nCara Squires CITP®|FIBP®\nGlobal Trade Strategy Development Officer\n902-626-9533\nclsquires@gov.pe.ca
URL:https://innovationpei.com/event/hannover-messe-april-20-24-2026/
CATEGORIES:Trade Missions
ATTACH;FMTTYPE=image/png:https://innovationpei.com/wp-content/uploads/2025/11/trade-mission-location-featured-image-9.png
END:VEVENT
END:VCALENDAR