BEGIN:VCALENDAR
VERSION:2.0
PRODID:-//Innovation PEI - ECPv6.15.20//NONSGML v1.0//EN
CALSCALE:GREGORIAN
METHOD:PUBLISH
X-ORIGINAL-URL:https://innovationpei.com
X-WR-CALDESC:Events for Innovation PEI
REFRESH-INTERVAL;VALUE=DURATION:PT1H
X-Robots-Tag:noindex
X-PUBLISHED-TTL:PT1H
BEGIN:VTIMEZONE
TZID:America/Halifax
BEGIN:DAYLIGHT
TZOFFSETFROM:-0400
TZOFFSETTO:-0300
TZNAME:ADT
DTSTART:20250309T060000
END:DAYLIGHT
BEGIN:STANDARD
TZOFFSETFROM:-0300
TZOFFSETTO:-0400
TZNAME:AST
DTSTART:20251102T050000
END:STANDARD
BEGIN:DAYLIGHT
TZOFFSETFROM:-0400
TZOFFSETTO:-0300
TZNAME:ADT
DTSTART:20260308T060000
END:DAYLIGHT
BEGIN:STANDARD
TZOFFSETFROM:-0300
TZOFFSETTO:-0400
TZNAME:AST
DTSTART:20261101T050000
END:STANDARD
BEGIN:DAYLIGHT
TZOFFSETFROM:-0400
TZOFFSETTO:-0300
TZNAME:ADT
DTSTART:20270314T060000
END:DAYLIGHT
BEGIN:STANDARD
TZOFFSETFROM:-0300
TZOFFSETTO:-0400
TZNAME:AST
DTSTART:20271107T050000
END:STANDARD
END:VTIMEZONE
BEGIN:VEVENT
DTSTART;VALUE=DATE:20260310
DTEND;VALUE=DATE:20260314
DTSTAMP:20260421T182150
CREATED:20251022T134753Z
LAST-MODIFIED:20251022T173245Z
UID:10000032-1773100800-1773446399@innovationpei.com
SUMMARY:FOODEX Japan 2026 - March 10-13\, 2026
DESCRIPTION:Innovation PEI is seeking interest from export-ready PEI-based companies to participate in the FOODEX Japan 2026. \n\n\nDates: March 10 to 13\, 2026 \n\n\nLocation: Tokyo\, Japan \n\n\nWhy Participate: \n\n\nStrengthen linkages between PEI and industry buyers from Japan\, Korea\, China and Taiwan within the food and beverage sector\nIn 2025\, the show attracted 3\,300 exhibitors from 50 countries and regions and 80\,000 professional visitors\nBenefit from Innovation PEI’s provincial booth in the Canada Pavilion which will host co-exhibitors from PEI\n\n\nFunding Support:\nInnovation PEI’s Export Enhancement and Diversification Fund can cover up to 60% of eligible travel-related expenses for eligible participating companies from PEI\, including economy airfare\, accommodations\, and meals. For detailed information and access to the online application portal\, please click here. \n\n\nThe participation fee is $2\,000 CAD per company counter within PEI booth. \n\n\n🗓️ Deadline for this mission is November 7th\, 2025 \n\n\nFor more information and to express your interest\, please contact Lannia MacAleer\, the event lead\, via email or phone. \n\n\nLannia Pan MacAleer\nTrade Development Officer\, Global Trade Services\n902-368-6208\nlpmacaleer@gov.pe.ca
URL:https://innovationpei.com/event/foodex-japan-2026/
CATEGORIES:Trade Missions
ATTACH;FMTTYPE=image/png:https://innovationpei.com/wp-content/uploads/2025/10/trade-mission-location-featured-image-7.png
END:VEVENT
END:VCALENDAR