BEGIN:VCALENDAR
VERSION:2.0
PRODID:-//Innovation PEI - ECPv6.15.20//NONSGML v1.0//EN
CALSCALE:GREGORIAN
METHOD:PUBLISH
X-WR-CALNAME:Innovation PEI
X-ORIGINAL-URL:https://innovationpei.com
X-WR-CALDESC:Events for Innovation PEI
REFRESH-INTERVAL;VALUE=DURATION:PT1H
X-Robots-Tag:noindex
X-PUBLISHED-TTL:PT1H
BEGIN:VTIMEZONE
TZID:America/Halifax
BEGIN:DAYLIGHT
TZOFFSETFROM:-0400
TZOFFSETTO:-0300
TZNAME:ADT
DTSTART:20250309T060000
END:DAYLIGHT
BEGIN:STANDARD
TZOFFSETFROM:-0300
TZOFFSETTO:-0400
TZNAME:AST
DTSTART:20251102T050000
END:STANDARD
BEGIN:DAYLIGHT
TZOFFSETFROM:-0400
TZOFFSETTO:-0300
TZNAME:ADT
DTSTART:20260308T060000
END:DAYLIGHT
BEGIN:STANDARD
TZOFFSETFROM:-0300
TZOFFSETTO:-0400
TZNAME:AST
DTSTART:20261101T050000
END:STANDARD
BEGIN:DAYLIGHT
TZOFFSETFROM:-0400
TZOFFSETTO:-0300
TZNAME:ADT
DTSTART:20270314T060000
END:DAYLIGHT
BEGIN:STANDARD
TZOFFSETFROM:-0300
TZOFFSETTO:-0400
TZNAME:AST
DTSTART:20271107T050000
END:STANDARD
END:VTIMEZONE
BEGIN:VEVENT
DTSTART;VALUE=DATE:20260215
DTEND;VALUE=DATE:20260221
DTSTAMP:20260421T193021
CREATED:20251022T144937Z
LAST-MODIFIED:20251022T191515Z
UID:10000033-1771113600-1771631999@innovationpei.com
SUMMARY:Canada Trade Mission (CTM) to Mexico - Feb 15-20\, 2026
DESCRIPTION:Innovation PEI\, in partnership with Canada’s Trade Commissioner Service (TCS)\, is seeking interest from export-ready PEI-based companies to participate in a Canada Trade Mission (CTM) to Mexico. \n\n\nDates: Sunday\, February 15 to Friday\, February 20\, 2026 \n\n\nLocation: \n\n\nCore programming in Mexico City from February 15 to 17\nSector-specific programming in Guadalajara and Monterrey from February 18 to 20\n\n\nSectors: \n\n\nManufacturing\nAdvanced manufacturing (Mexico City and Monterrey)\nAgriculture and processed foods (Mexico City and Guadalajara)\nClean technologies and clean energy (Mexico City and Monterrey)\nCreative industries (Mexico City and Guadalajara) – in partnership with the Department of Canadian Heritage\nInformation and communication technologies (Mexico City and Monterrey)\n\n\nWhy Participate: \n\n\nNetworking opportunities with Minister LeBlanc\, senior officials and Mexican business leaders\nOn-site business briefings by Trade Commissioners\, senior officials and key local industry experts\nSector-specific site visits\nPre-arranged business-to-business meetings\, exclusively offered to participating small and medium sized enterprises (SMEs) operating within the trade mission sectors\n\n\nWho is eligible to participate? \n\n\nEligibility criteria for Canadian SMEs \n\n\nTo be considered for this trade mission\, Canadian SMEs must clearly demonstrate how they meet the following criteria:\nOperate in one of the trade mission’s eligible sectors\nBe export-ready with demonstrated potential for success in the Mexican market\nMeet the eligibility criteria to qualify as a client of the TCS\n\n\nEligibility criteria for other Canadian organizations and large businesses \n\n\nTo be considered for this trade mission\, large businesses\, trade associations and chambers of commerce must clearly demonstrate that they: \n\n\nAre strategically aligned with the trade mission’s eligible sectors\nCan contribute to fostering partnerships\, knowledge exchange or economic development\nHave the ability to bring demonstrated value to the trade mission through expertise\, resources or collaboration opportunities\n\n\nTravel considerations and expenses:\nParticipants are responsible for organizing their own travel arrangements\, including all air and ground transportation to and from the airport\, and to make their own accommodation reservations. Programming and travel information (such as local transportation options and hotel recommendations) will be provided to confirmed participants as information becomes available. \n\n\nFunding Support: \nInnovation PEI’s Export Enhancement and Diversification Fund can cover up to 60% of eligible travel-related expenses for eligible participating companies from PEI\, including economy airfare\, accommodations\, and meals. For detailed information and access to the online application portal\, please click here. \n\n\nSelected delegates will receive information on funding opportunities through CanExport (GAC-Led Delegations). \n\n\nThere is no fee to participate in the trade mission. However\, participants are responsible for covering all related travel costs\, including airfare\, accommodations\, ground transportation and meals not included in the program. \n\n\n🗓️ Deadline for this mission is November 28th\, 2025\, 23:59 AST. \n\n\nFor more information on the CTM to Mexico\, visit the event page or contact us at ctm-mcc.mex@international.gc.ca \n\n\nSUBMIT YOUR APPLICATION TODAY!
URL:https://innovationpei.com/event/canada-trade-mission-ctm-to-mexico/
CATEGORIES:Trade Missions
ATTACH;FMTTYPE=image/png:https://innovationpei.com/wp-content/uploads/2025/10/Annotation-2025-10-22-114728.png
ORGANIZER;CN="Team Canada Trade Commissioner Service":MAILTO:trade.missions@international.gc.ca
END:VEVENT
END:VCALENDAR