BEGIN:VCALENDAR
VERSION:2.0
PRODID:-//Innovation PEI - ECPv6.15.20//NONSGML v1.0//EN
CALSCALE:GREGORIAN
METHOD:PUBLISH
X-WR-CALNAME:Innovation PEI
X-ORIGINAL-URL:https://innovationpei.com
X-WR-CALDESC:Events for Innovation PEI
REFRESH-INTERVAL;VALUE=DURATION:PT1H
X-Robots-Tag:noindex
X-PUBLISHED-TTL:PT1H
BEGIN:VTIMEZONE
TZID:America/Halifax
BEGIN:DAYLIGHT
TZOFFSETFROM:-0400
TZOFFSETTO:-0300
TZNAME:ADT
DTSTART:20250309T060000
END:DAYLIGHT
BEGIN:STANDARD
TZOFFSETFROM:-0300
TZOFFSETTO:-0400
TZNAME:AST
DTSTART:20251102T050000
END:STANDARD
BEGIN:DAYLIGHT
TZOFFSETFROM:-0400
TZOFFSETTO:-0300
TZNAME:ADT
DTSTART:20260308T060000
END:DAYLIGHT
BEGIN:STANDARD
TZOFFSETFROM:-0300
TZOFFSETTO:-0400
TZNAME:AST
DTSTART:20261101T050000
END:STANDARD
BEGIN:DAYLIGHT
TZOFFSETFROM:-0400
TZOFFSETTO:-0300
TZNAME:ADT
DTSTART:20270314T060000
END:DAYLIGHT
BEGIN:STANDARD
TZOFFSETFROM:-0300
TZOFFSETTO:-0400
TZNAME:AST
DTSTART:20271107T050000
END:STANDARD
END:VTIMEZONE
BEGIN:VEVENT
DTSTART;VALUE=DATE:20260126
DTEND;VALUE=DATE:20260131
DTSTAMP:20260422T100215
CREATED:20250911T185254Z
LAST-MODIFIED:20251022T134004Z
UID:10000030-1769385600-1769817599@innovationpei.com
SUMMARY:Multi-Sector Business Trade Mission to Dubai\, United Arab Emirates - Jan 26-30\, 2026
DESCRIPTION:Innovation PEI is seeking interest from export-ready PEI-based companies to participate in Multi-Sector Business Mission to Dubai\, United Arab Emirates and the Gulfood Show. \nDates: January 26-30\, 2026\nLocation: Dubai & United Arab Emirates jurisdictions \nSectors: \n\nManufacturing\nClean tech\nICT\nEducation\nProfessional Services\nFood\n\nWhy Participate: \n\nStrengthen linkages between PEI and Dubai & United Arab markets within key sectors\nShowcase your business development program in advance of their mission-week and market objectives\nExhibit exhibiting at the Gulfood Show with a turn-key booth with company graphics\, furniture\, logo’s\, and show registration\nParticipate in a B2B program made by a local in market consultant\n\nTransportation will also be coordinated to support business in market activities and meetings sectors. Travel support of up to 60% is available\, upon online application\, to exhibiting companies and those that choose to walk the show\, along with multi-sector companies participating in the B2B program. \nFunding Support:\n Innovation PEI’s Export Enhancement and Diversification Fund can cover up to 60% of eligible travel-related expenses for eligible participating companies from PEI\, including economy airfare\, accommodations\, and meals. For detailed information and access to the online application portal\, please click here. \nRegistration Fee:\nB2B Multi-Sector mission program for companies=$1500 + (HST)=$1725\nThe participation fee will be for Gulfood Trade Show booth $1500 & B2B program $300=$1800 + (HST)$270=$2070 \n🗓️ Deadline to submit your expression of interest for this mission is October 16\, 2025. \nFor more information and to express your interest\, please contact Jamie Blanchard\, the event lead via email or phone.\nJamie Blanchard CITP®|FIBP®\nGlobal Trade Officer – Innovation PEI\njrblanchard@gov.pe.ca\n(902)368-4474 or (902)314-0749 cell
URL:https://innovationpei.com/event/multi-sector-business-trade-mission-to-dubai-united-arab-emirates/
CATEGORIES:Trade Missions
ATTACH;FMTTYPE=image/png:https://innovationpei.com/wp-content/uploads/2025/09/trade-mission-location-featured-image-3.png
END:VEVENT
END:VCALENDAR